BEGIN:VCALENDAR
VERSION:2.0
PRODID:-//Bienvenue chez VAT CARRIERE - ECPv6.15.20//NONSGML v1.0//EN
CALSCALE:GREGORIAN
METHOD:PUBLISH
X-ORIGINAL-URL:https://vatcarriere.com
X-WR-CALDESC:Évènements pour Bienvenue chez VAT CARRIERE
REFRESH-INTERVAL;VALUE=DURATION:PT1H
X-Robots-Tag:noindex
X-PUBLISHED-TTL:PT1H
BEGIN:VTIMEZONE
TZID:UTC
BEGIN:STANDARD
TZOFFSETFROM:+0000
TZOFFSETTO:+0000
TZNAME:UTC
DTSTART:20220101T000000
END:STANDARD
END:VTIMEZONE
BEGIN:VEVENT
DTSTART;VALUE=DATE:20230816
DTEND;VALUE=DATE:20230817
DTSTAMP:20260422T131634
CREATED:20230815T200536Z
LAST-MODIFIED:20230815T200536Z
UID:2154-1692144000-1692230399@vatcarriere.com
SUMMARY:[ 🔴🔴🔴 LE PARCOURS DE LA RÉUSSITE ]  📚📲 E-Book
DESCRIPTION:Quoi de mieux qu’un livre électronique pour vous insprer et vous guider dans la création de votre entreprise? 📚✨🔥🔥 Notre e-book vous présentera toutes les discussions captivantes\, les informations essentielles et les témoignages poignants abordés lors du webinaire\, qui avait pour thème : MA PASSION\, MON METIERPartagez votre expérience entrepreneuriale avec nous et influencez les jeunes entrepreneurs par votre passion. Un grand merci à tous les entrepreneurs qui ont participé au succès de ce e-book 🙌🏼✨Taggez vos amis avec qui vous aimeriez partager ce e-book et n’oubliez pas de passer votre commande auprès de Elvina Bambara par courriel à elvina.bambara@vatcarriere.com.🤩 Nous avons hâte de vous partager le contenu.
URL:https://vatcarriere.com/event/%f0%9f%94%b4%f0%9f%94%b4%f0%9f%94%b4-le-parcours-de-la-reussite-%f0%9f%93%9a%f0%9f%93%b2-e-book/
LOCATION:VAT CARRIERE\, QC\, Canada
ORGANIZER;CN="VAT CARRIERE":MAILTO:vatcarriere@vatcarriere.com
END:VEVENT
END:VCALENDAR